Workbook

Sheet Лист1
A1: Товарные позиции, экспортируемые предприятиями Брестской области
A2: Товарная позиция | B2: код ТН ВЭД | C2: Наименование товарной субпозиции
A3: =LEFT(B3,4) -> 0102 | B3: 0102213000 | C3: =VLOOKUP(B3,[1]Лист6!A:B,2,FALSE) -> ДОМАШНИЙ КРУПНЫЙ РОГАТЫЙ СКОТ ЖИВОЙ, ЧИСТОПОРОДНЫЕ ПЛЕМЕННЫЕ ЖИВОТНЫЕ: КОРОВЫ
B4: 0102219000 | C4: =VLOOKUP(B4,[1]Лист6!A:B,2,FALSE) -> КРУПНЫЙ РОГАТЫЙ СКОТ ЖИВОЙ, ЧИСТОПОРОДНЫЕ ПЛЕМЕННЫЕ ЖИВОТНЫЕ: ПРОЧИЕ
A5: =LEFT(B5,4) -> 0201 | B5: 0201202008 | C5: =VLOOKUP(B5,[1]Лист6!A:B,2,FALSE) -> "КОМПЕНСИРОВАННЫЕ" ЧЕТВЕРТИНЫ КРУПНОГО РОГ.СКОТА, НЕОБВАЛ.СВЕЖИЕ ИЛИ ОХЛАЖД., ПРОЧИЕ
B6: 0201203008 | C6: =VLOOKUP(B6,[1]Лист6!A:B,2,FALSE) -> НЕРАЗДЕЛЕН. ИЛИ РАЗДЕЛЕН.ПЕРЕДНИЕ ЧЕТВЕРТ.КРУПНОГО РОГ.СКОТА,НЕОБВАЛ. СВЕЖИЕ ИЛИ ОХЛАЖД., ПРОЧИЕ
B7: 0201205008 | C7: =VLOOKUP(B7,[1]Лист6!A:B,2,FALSE) -> НЕРАЗДЕЛЕН.ИЛИ РАЗДЕЛЕН.ЗАДНИЕ ЧЕТВЕРТ.КРУПН.РОГАТОГО СКОТА, НЕОБВАЛ., СВЕЖИЕ ИЛИ ОХЛАЖД., ПРОЧИЕ
B8: 0201300008 | C8: =VLOOKUP(B8,[1]Лист6!A:B,2,FALSE) -> ПРОЧЕЕ МЯСО КРУПНОГО РОГАТОГО СКОТА СВЕЖЕЕ ИЛИ ОХЛАЖДЕННОЕ ОБВАЛЕННОЕ, ПРОЧЕЕ
A9: =LEFT(B9,4) -> 0202 | B9: 0202100008 | C9: =VLOOKUP(B9,[1]Лист6!A:B,2,FALSE) -> ТУШИ И ПОЛУТУШИ КРУПНОГО РОГАТОГО СКОТА МОРОЖЕНЫЕ, ПРОЧИЕ
B10: 0202201008 | C10: =VLOOKUP(B10,[1]Лист6!A:B,2,FALSE) -> ПРОЧИЕ "КОМПЕНСИРОВАННЫЕ" ЧЕТВЕРТИНЫ МЯСА КРУПНОГО РОГАТОГО СКОТА, МОРОЖЕНЫЕ, НЕОБВАЛЕННЫЕ, ПРОЧИЕ
B11: 0202203008 | C11: =VLOOKUP(B11,[1]Лист6!A:B,2,FALSE) -> ПРОЧИЕ НЕРАЗДЕЛЕННЫЕ ИЛИ РАЗДЕЛЕННЫЕ ЧЕТВЕРТИНЫ МЯСА КРУПНОГО РОГАТОГО СКОТА, МОРОЖЕНЫЕ, НЕОБВАЛЕННЫЕ, ПРОЧИЕ
B12: 0202205008 | C12: =VLOOKUP(B12,[1]Лист6!A:B,2,FALSE) -> НЕРАЗДЕЛЕН. ИЛИ РАЗДЕЛЕН.ЗАДНИЕ ЧЕТВЕРТИНЫ КРУПНОГО РОГАТОГО СКОТА, МОРОЖЕНЫЕ, НЕОБВАЛЕННЫЕ, ПРОЧИЕ
B13: 0202209008 | C13: =VLOOKUP(B13,[1]Лист6!A:B,2,FALSE) -> ПРОЧИЕ ОТРУБА КРУПНОГО РОГАТОГО СКОТА, НЕОБВАЛЕННЫЕ, МОРОЖЕНЫЕ
B14: 0202305008 | C14: =VLOOKUP(B14,[1]Лист6!A:B,2,FALSE) -> ПРОЧИЕ ОТРУБА, ЛОПАТКА И ШЕЙНО-ЛОПАТОЧНАЯ ЧАСТЬ И ГРУДИНКА, ОБВАЛЕННЫЕ, МОРОЖЕНЫЕ
B15: 0202309008 | C15: =VLOOKUP(B15,[1]Лист6!A:B,2,FALSE) -> ОТРУБА, ЛОПАТКА И ШЕЙНО-ЛОПАТОЧНАЯ ЧАСТЬ И ГРУДИНКА, ОБВАЛЕННЫЕ, МОРОЖЕНЫЕ, ПРОЧИЕ
A16: =LEFT(B16,4) -> 0206 | B16: 0206210000 | C16: =VLOOKUP(B16,[1]Лист6!A:B,2,FALSE) -> ЯЗЫКИ КРУПНОГО РОГАТОГО СКОТА, МОРОЖЕНЫЕ
B17: 0206220009 | C17: =VLOOKUP(B17,[1]Лист6!A:B,2,FALSE) -> ПРОЧИЕ ПЕЧЕНЬ КРУПНОГО РОГАТОГО СКОТА, МОРОЖЕННАЯ
B18: 0206299900 | C18: =VLOOKUP(B18,[1]Лист6!A:B,2,FALSE) -> ПРОЧИЕ ПИЩЕВЫЕ СУБПРОДУКТЫ КРУПНОГО РОГАТОГО СКОТА, МОРОЖЕНЫЕ ДЛЯ ПРОИЗВОДСТВА ФАРМАЦЕВТИЧЕСКОЙ ПРОДУКЦИИ
A19: =LEFT(B19,4) -> 0207 | B19: 0207119009 | C19: =VLOOKUP(B19,[1]Лист6!A:B,2,FALSE) -> ПРОЧИЕ, ОЩИПАННЫЕ И ПОТРОШЕНЫЕ, БЕЗ ГОЛОВЫ И ПЛЮСЕН НОГ И БЕЗ ШЕЙКИ, СЕРДЦА, ПЕЧЕНИ, И МУСКУЛЬНОГО ЖЕЛУДКА, ПРЕДСТАВЛЕННЫЕ КАК "65%-НЫЕ ЦЫПЛЯТА",...НЕ РАЗДЕЛАННЫЕ НА ЧАСТИ, СВЕЖИЕ ИЛИ ОХЛАЖДЕННЫЕ
B20: 0207129009 | C20: =VLOOKUP(B20,[1]Лист6!A:B,2,FALSE) -> ПРОЧИЕ ОЩИПАННЫЕ И ПОТРОШЕНЫЕ, БЕЗ ГОЛОВЫ И ПЛЮСЕН НОГ И БЕЗ ШЕЙКИ, СЕРДЦА, ПЕЧЕНИ И МУСКУЛЬНОГО ЖЕЛУДКА, ПРЕДСТАВЛЕННЫЕ КАК "65%-НЫЕ ЦЫПЛЯТА",ИЛИ ПРЕДСТАВЛЕННЫЕ В КАКОЙ-ЛИБО ДРУГОЙ РАЗДЕЛКЕ
B21: 0207131009 | C21: =VLOOKUP(B21,[1]Лист6!A:B,2,FALSE) -> ПРОЧИЕ ОБВАЛЕННЫЕ ЧАСТИ ТУШЕК КУР ДОМАШНИХ, СВЕЖИЕ ИЛИ ОХЛАЖДЕННЫЕ
B22: 0207135009 | C22: =VLOOKUP(B22,[1]Лист6!A:B,2,FALSE) -> ПРОЧИЕ ГРУДКИ И КУСКИ ИЗ НИХ, СВЕЖИЕ ИЛИ ОХЛАЖДЕННЫЕ, НЕОБВАЛЕННЫЕ, ДОМАШНИХ КУР ВИДА GALLUS DOMESTICUS
B23: 0207141009 | C23: =VLOOKUP(B23,[1]Лист6!A:B,2,FALSE) -> ПРОЧИЕ ЧАСТИ ТУШЕК, ОБВАЛЕННЫЕ, МОРОЖЕНЫЕ, ДОМАШНИХ КУР ВИДА GALLUS DOMESTICUS
B24: 0207142009 | C24: =VLOOKUP(B24,[1]Лист6!A:B,2,FALSE) -> ПРОЧИЕ НЕОБВАЛЕННЫЕ ПОЛОВИНЫ ИЛИ ЧЕТВЕРТИНЫ, МОРОЖЕНЫЕ, ДОМАШНИХ КУР ВИДА GALLUS DOMESTICUS
B25: 0207143009 | C25: =VLOOKUP(B25,[1]Лист6!A:B,2,FALSE) -> ПРОЧИЕ КРЫЛЬЯ ЦЕЛЬНЫЕ, С ТОНКИМ КОНЦОМ ИЛИ БЕЗ НЕГО, НЕОБВАЛЕННЫЕ, МОРОЖЕНЫЕ, ДОМАШНИХ КУР ВИДА GALLUS DOMESTICUS
B26: 0207144009 | C26: =VLOOKUP(B26,[1]Лист6!A:B,2,FALSE) -> ПРОЧИЕ СПИНКИ, ШЕЙКИ, СПИНКИ ВМЕСТЕ С ШЕЙКОЙ, ГУЗКИ И ТОНКИЕ КОНЦЫ КРЫЛЬЕВ,НЕОБВАЛЕННЫЕ, МОРОЖЕННЫЕ, ДОМАШНИХ КУР ВИДА GALLUS DOMESTICUS
B27: 0207145009 | C27: =VLOOKUP(B27,[1]Лист6!A:B,2,FALSE) -> ПРОЧИЕ ГРУДКИ И КУСКИ ИЗ НИХ, НЕОБВАЛЕННЫЕ, МОРОЖЕННЫЕ, ДОМАШНИХ КУР ВИДА GALLUS DOMESTICUS
B28: 0207146009 | C28: =VLOOKUP(B28,[1]Лист6!A:B,2,FALSE) -> ПРОЧИЕ НОЖКИ И КУСКИ ИЗ НИХ, НЕОБВАЛЕННЫЕ, МОРОЖЕННЫЕ, ДОМАШНИХ КУР ВИДА GALLUS DOMESTICUS
B29: 0207147009 | C29: =VLOOKUP(B29,[1]Лист6!A:B,2,FALSE) -> ПРОЧИЕ НЕОБВАЛЕННЫЕ ЧАСТИ ТУШЕК, МОРОЖЕНЫЕ, ДОМАШИХ КУР ВИДА GALLUS DOMESTICUS
B30: 0207149109 | C30: =VLOOKUP(B30,[1]Лист6!A:B,2,FALSE) -> ПРОЧАЯ ПЕЧЕНЬ, МОРОЖЕНАЯ, ДОМАШНИХ КУР ВИДА GALLUS DOMESTICUS
B31: 0207149909 | C31: =VLOOKUP(B31,[1]Лист6!A:B,2,FALSE) -> ПРОЧИЕ СУБПРОДУКТЫ, МОРОЖЕНЫЕ, ДОМАШНИХ КУР ВИДА GALLUS DOMESTICUS
A32: =LEFT(B32,4) -> 0209 | B32: 0209101100 | C32: =VLOOKUP(B32,[1]Лист6!A:B,2,FALSE) -> ПОКОЖНЫЙ СВИНОЙ ЖИР, СВЕЖИЙ, ОХЛАЖДЕННЫЙ, ЗАМОРОЖЕННЫЙ, СОЛЕНЫЙ ИЛИ В РАССОЛЕ
B33: 0209900000 | C33: =VLOOKUP(B33,[1]Лист6!A:B,2,FALSE) -> ПРОЧИЙ ЖИР
A34: =LEFT(B34,4) -> 0210 | B34: 0210121100 | C34: =VLOOKUP(B34,[1]Лист6!A:B,2,FALSE) -> ГРУДИНКИ (С ПРОСЛОЙКАМИ) И ОТРУБА ИЗ НИХ, ДОМАШНИХ СВИНЕЙ, СОЛЕНЫЕ ИЛИ В РАССОЛЕ
A35: =LEFT(B35,4) -> 0301 | B35: 0301930000 | C35: =VLOOKUP(B35,[1]Лист6!A:B,2,FALSE) -> КАРП ЖИВОЙ (CYPRINUS SPP., CARASSIUS SPP., CTENOPHARYNGODON IDELLUS, HYPOPHTHALMICHTHYS SPP., CIRRHINUS SPP., MYLOPHARYNGODON PICEUS, CATLA CATLA, LABEO SPP., OSTEOCHILUS HASSELTI, LEPTOBARBUS HOEVENI, MEGALOBRAMA SPP.)
B36: 0301991820 | C36: =VLOOKUP(B36,[1]Лист6!A:B,2,FALSE) -> ПРОЧАЯ ЖИВАЯ ПРЕСНОВОДНАЯ РЫБА: ПРОЧИЕ ОСЕТРОВЫЕ
A37: =LEFT(B37,4) -> 0303 | B37: 0303149000 | C37: =VLOOKUP(B37,[1]Лист6!A:B,2,FALSE) -> ПРОЧАЯ ФОРЕЛЬ (SALMO TRUTTA, ONCORHYNCHUS MYKISS, ONCORHYNCHUS CLARKI, ONCORHYNCHUS AGUABONITA, ONCORHYNCHUS GILAE, ONCORHYNCHUS APACHE И ONCORHYNCHUS CHRYSOGASTER), МОРОЖЕНАЯ
B38: 0303990002 | C38: =VLOOKUP(B38,[1]Лист6!A:B,2,FALSE) -> ПЕЧЕНЬ, ИКРА, МОЛОКИ, ПЛАВНИКИ, ГОЛОВЫ, ХВОСТЫ, ПЛАВАТЕЛЬНЫЕ ПУЗЫРИ И ПРОЧИЕ ПИЩЕВЫЕ РЫБНЫЕ СУБПРОДУКТЫ ЛОСОСЕВЫХ ДРУГИХ ВИДОВ, МОРОЖЕНЫЕ
A39: =LEFT(B39,4) -> 0304 | B39: 0304991100 | C39: =VLOOKUP(B39,[1]Лист6!A:B,2,FALSE) -> ПРОЧЕЕ ФИЛЕ РЫБНОЕ И ПРОЧЕЕ МЯСО РЫБЫ (ВКЛЮЧАЯ ФАРШ), МОРОЖЕНЫЕ: СУРИМИ
A40: =LEFT(B40,4) -> 0305 | B40: 0305391000 | C40: =VLOOKUP(B40,[1]Лист6!A:B,2,FALSE) -> ПРОЧЕЕ ФИЛЕ ЛОСОСЯ ТИХООКЕАНСКОГО , ЛОСОСЯ АТЛАНТИЧЕСКОГО (SALMO SALAR) И ЛОСОСЯ ДУНАЙСКОГО (HUCHO HUCHO), СОЛЕНОЕ ИЛИ В РАССОЛЕ
...
